BEGIN:VCALENDAR
VERSION:2.0
PRODID:-//sportschuetzen-rheurdt - ECPv6.15.20//NONSGML v1.0//EN
CALSCALE:GREGORIAN
METHOD:PUBLISH
X-WR-CALNAME:sportschuetzen-rheurdt
X-ORIGINAL-URL:https://sportschuetzen-rheurdt.de
X-WR-CALDESC:Veranstaltungen für sportschuetzen-rheurdt
REFRESH-INTERVAL;VALUE=DURATION:PT1H
X-Robots-Tag:noindex
X-PUBLISHED-TTL:PT1H
BEGIN:VTIMEZONE
TZID:Europe/Berlin
BEGIN:DAYLIGHT
TZOFFSETFROM:+0100
TZOFFSETTO:+0200
TZNAME:CEST
DTSTART:20250330T010000
END:DAYLIGHT
BEGIN:STANDARD
TZOFFSETFROM:+0200
TZOFFSETTO:+0100
TZNAME:CET
DTSTART:20251026T010000
END:STANDARD
BEGIN:DAYLIGHT
TZOFFSETFROM:+0100
TZOFFSETTO:+0200
TZNAME:CEST
DTSTART:20260329T010000
END:DAYLIGHT
BEGIN:STANDARD
TZOFFSETFROM:+0200
TZOFFSETTO:+0100
TZNAME:CET
DTSTART:20261025T010000
END:STANDARD
BEGIN:DAYLIGHT
TZOFFSETFROM:+0100
TZOFFSETTO:+0200
TZNAME:CEST
DTSTART:20270328T010000
END:DAYLIGHT
BEGIN:STANDARD
TZOFFSETFROM:+0200
TZOFFSETTO:+0100
TZNAME:CET
DTSTART:20271031T010000
END:STANDARD
END:VTIMEZONE
BEGIN:VEVENT
DTSTART;TZID=Europe/Berlin:20260604T140000
DTEND;TZID=Europe/Berlin:20260604T200000
DTSTAMP:20260422T135022
CREATED:20260112T072212Z
LAST-MODIFIED:20260112T072212Z
UID:1636-1780581600-1780603200@sportschuetzen-rheurdt.de
SUMMARY:Bankgrillen 2026
DESCRIPTION:
URL:https://sportschuetzen-rheurdt.de/event/bankgrillen-2026/
LOCATION:Sportschützen Rheurdt e.V.\, St Nikolausweg\, Rheurdt
END:VEVENT
BEGIN:VEVENT
DTSTART;TZID=Europe/Berlin:20260605T190000
DTEND;TZID=Europe/Berlin:20260605T220000
DTSTAMP:20260422T135022
CREATED:20260112T072740Z
LAST-MODIFIED:20260112T072740Z
UID:1648-1780686000-1780696800@sportschuetzen-rheurdt.de
SUMMARY:Charly Pokal 3
DESCRIPTION:
URL:https://sportschuetzen-rheurdt.de/event/charly-pokal-3/
LOCATION:Sportschützen Rheurdt e.V.\, St Nikolausweg\, Rheurdt
END:VEVENT
END:VCALENDAR